BEGIN:VCALENDAR
VERSION:2.0
PRODID:-//Squarespace Inc/Squarespace 6//v6//EN
BEGIN:VEVENT
UID:5a5897ac4192026440f658c1@squarespace.com
DTSTAMP:20180112T111630Z
DTSTART:20180114T113000Z
DTEND:20180218T123000Z
SUMMARY:Kids Included Together Training
END:VEVENT
END:VCALENDAR
